BEGIN:VCALENDAR
VERSION:2.0
PRODID:-//Moorland &amp; Fordgate Village Hall - ECPv6.15.20//NONSGML v1.0//EN
CALSCALE:GREGORIAN
METHOD:PUBLISH
X-WR-CALNAME:Moorland &amp; Fordgate Village Hall
X-ORIGINAL-URL:https://moorlandvillagehall.co.uk
X-WR-CALDESC:Events for Moorland &amp; Fordgate Village Hall
REFRESH-INTERVAL;VALUE=DURATION:PT1H
X-Robots-Tag:noindex
X-PUBLISHED-TTL:PT1H
BEGIN:VTIMEZONE
TZID:UTC
BEGIN:STANDARD
TZOFFSETFROM:+0000
TZOFFSETTO:+0000
TZNAME:UTC
DTSTART:20250101T000000
END:STANDARD
END:VTIMEZONE
BEGIN:VEVENT
DTSTART;TZID=UTC:20260421T193000
DTEND;TZID=UTC:20260421T213000
DTSTAMP:20260421T011144
CREATED:20231202T135840Z
LAST-MODIFIED:20231202T141202Z
UID:10000127-1776799800-1776807000@moorlandvillagehall.co.uk
SUMMARY:Badminton
DESCRIPTION:Tuesdays 19:30 – 21:30
URL:https://moorlandvillagehall.co.uk/event/badminton/2026-04-21/
LOCATION:Moorland & District Village Hall\, Northmoor Green\, Bridgwater\, Somerset\, TA7 0AS\, United Kingdom
ATTACH;FMTTYPE=image/jpeg:https://moorlandvillagehall.co.uk/wp-content/uploads/2023/12/AdobeStock_484864213-scaled.jpeg
END:VEVENT
END:VCALENDAR