BEGIN:VCALENDAR
VERSION:2.0
PRODID:-//Moorland &amp; Fordgate Village Hall - ECPv6.15.20//NONSGML v1.0//EN
CALSCALE:GREGORIAN
METHOD:PUBLISH
X-WR-CALNAME:Moorland &amp; Fordgate Village Hall
X-ORIGINAL-URL:https://moorlandvillagehall.co.uk
X-WR-CALDESC:Events for Moorland &amp; Fordgate Village Hall
REFRESH-INTERVAL;VALUE=DURATION:PT1H
X-Robots-Tag:noindex
X-PUBLISHED-TTL:PT1H
BEGIN:VTIMEZONE
TZID:UTC
BEGIN:STANDARD
TZOFFSETFROM:+0000
TZOFFSETTO:+0000
TZNAME:UTC
DTSTART:20250101T000000
END:STANDARD
END:VTIMEZONE
BEGIN:VEVENT
DTSTART;TZID=UTC:20260422T183000
DTEND;TZID=UTC:20260422T193000
DTSTAMP:20260421T104753
CREATED:20231202T140201Z
LAST-MODIFIED:20231202T141618Z
UID:10000649-1776882600-1776886200@moorlandvillagehall.co.uk
SUMMARY:Pilates
DESCRIPTION:Wednesdays – 18:30 – 19:30
URL:https://moorlandvillagehall.co.uk/event/pilates/2026-04-22/
LOCATION:Moorland & District Village Hall\, Northmoor Green\, Bridgwater\, Somerset\, TA7 0AS\, United Kingdom
ATTACH;FMTTYPE=image/jpeg:https://moorlandvillagehall.co.uk/wp-content/uploads/2023/12/AdobeStock_277137656-scaled.jpeg
END:VEVENT
BEGIN:VEVENT
DTSTART;TZID=UTC:20260429T183000
DTEND;TZID=UTC:20260429T193000
DTSTAMP:20260421T104753
CREATED:20231202T140201Z
LAST-MODIFIED:20231202T141618Z
UID:10000650-1777487400-1777491000@moorlandvillagehall.co.uk
SUMMARY:Pilates
DESCRIPTION:Wednesdays – 18:30 – 19:30
URL:https://moorlandvillagehall.co.uk/event/pilates/2026-04-29/
LOCATION:Moorland & District Village Hall\, Northmoor Green\, Bridgwater\, Somerset\, TA7 0AS\, United Kingdom
ATTACH;FMTTYPE=image/jpeg:https://moorlandvillagehall.co.uk/wp-content/uploads/2023/12/AdobeStock_277137656-scaled.jpeg
END:VEVENT
BEGIN:VEVENT
DTSTART;TZID=UTC:20260506T183000
DTEND;TZID=UTC:20260506T193000
DTSTAMP:20260421T104753
CREATED:20231202T140201Z
LAST-MODIFIED:20231202T141618Z
UID:10000651-1778092200-1778095800@moorlandvillagehall.co.uk
SUMMARY:Pilates
DESCRIPTION:Wednesdays – 18:30 – 19:30
URL:https://moorlandvillagehall.co.uk/event/pilates/2026-05-06/
LOCATION:Moorland & District Village Hall\, Northmoor Green\, Bridgwater\, Somerset\, TA7 0AS\, United Kingdom
ATTACH;FMTTYPE=image/jpeg:https://moorlandvillagehall.co.uk/wp-content/uploads/2023/12/AdobeStock_277137656-scaled.jpeg
END:VEVENT
BEGIN:VEVENT
DTSTART;TZID=UTC:20260513T183000
DTEND;TZID=UTC:20260513T193000
DTSTAMP:20260421T104753
CREATED:20231202T140201Z
LAST-MODIFIED:20231202T141618Z
UID:10000652-1778697000-1778700600@moorlandvillagehall.co.uk
SUMMARY:Pilates
DESCRIPTION:Wednesdays – 18:30 – 19:30
URL:https://moorlandvillagehall.co.uk/event/pilates/2026-05-13/
LOCATION:Moorland & District Village Hall\, Northmoor Green\, Bridgwater\, Somerset\, TA7 0AS\, United Kingdom
ATTACH;FMTTYPE=image/jpeg:https://moorlandvillagehall.co.uk/wp-content/uploads/2023/12/AdobeStock_277137656-scaled.jpeg
END:VEVENT
BEGIN:VEVENT
DTSTART;TZID=UTC:20260520T183000
DTEND;TZID=UTC:20260520T193000
DTSTAMP:20260421T104753
CREATED:20231202T140201Z
LAST-MODIFIED:20231202T141618Z
UID:10000653-1779301800-1779305400@moorlandvillagehall.co.uk
SUMMARY:Pilates
DESCRIPTION:Wednesdays – 18:30 – 19:30
URL:https://moorlandvillagehall.co.uk/event/pilates/2026-05-20/
LOCATION:Moorland & District Village Hall\, Northmoor Green\, Bridgwater\, Somerset\, TA7 0AS\, United Kingdom
ATTACH;FMTTYPE=image/jpeg:https://moorlandvillagehall.co.uk/wp-content/uploads/2023/12/AdobeStock_277137656-scaled.jpeg
END:VEVENT
BEGIN:VEVENT
DTSTART;TZID=UTC:20260527T183000
DTEND;TZID=UTC:20260527T193000
DTSTAMP:20260421T104753
CREATED:20231202T140201Z
LAST-MODIFIED:20231202T141618Z
UID:10000654-1779906600-1779910200@moorlandvillagehall.co.uk
SUMMARY:Pilates
DESCRIPTION:Wednesdays – 18:30 – 19:30
URL:https://moorlandvillagehall.co.uk/event/pilates/2026-05-27/
LOCATION:Moorland & District Village Hall\, Northmoor Green\, Bridgwater\, Somerset\, TA7 0AS\, United Kingdom
ATTACH;FMTTYPE=image/jpeg:https://moorlandvillagehall.co.uk/wp-content/uploads/2023/12/AdobeStock_277137656-scaled.jpeg
END:VEVENT
BEGIN:VEVENT
DTSTART;TZID=UTC:20260603T183000
DTEND;TZID=UTC:20260603T193000
DTSTAMP:20260421T104753
CREATED:20231202T140201Z
LAST-MODIFIED:20231202T141618Z
UID:10000655-1780511400-1780515000@moorlandvillagehall.co.uk
SUMMARY:Pilates
DESCRIPTION:Wednesdays – 18:30 – 19:30
URL:https://moorlandvillagehall.co.uk/event/pilates/2026-06-03/
LOCATION:Moorland & District Village Hall\, Northmoor Green\, Bridgwater\, Somerset\, TA7 0AS\, United Kingdom
ATTACH;FMTTYPE=image/jpeg:https://moorlandvillagehall.co.uk/wp-content/uploads/2023/12/AdobeStock_277137656-scaled.jpeg
END:VEVENT
BEGIN:VEVENT
DTSTART;TZID=UTC:20260610T183000
DTEND;TZID=UTC:20260610T193000
DTSTAMP:20260421T104753
CREATED:20231202T140201Z
LAST-MODIFIED:20231202T141618Z
UID:10000656-1781116200-1781119800@moorlandvillagehall.co.uk
SUMMARY:Pilates
DESCRIPTION:Wednesdays – 18:30 – 19:30
URL:https://moorlandvillagehall.co.uk/event/pilates/2026-06-10/
LOCATION:Moorland & District Village Hall\, Northmoor Green\, Bridgwater\, Somerset\, TA7 0AS\, United Kingdom
ATTACH;FMTTYPE=image/jpeg:https://moorlandvillagehall.co.uk/wp-content/uploads/2023/12/AdobeStock_277137656-scaled.jpeg
END:VEVENT
BEGIN:VEVENT
DTSTART;TZID=UTC:20260617T183000
DTEND;TZID=UTC:20260617T193000
DTSTAMP:20260421T104753
CREATED:20231202T140201Z
LAST-MODIFIED:20231202T141618Z
UID:10000657-1781721000-1781724600@moorlandvillagehall.co.uk
SUMMARY:Pilates
DESCRIPTION:Wednesdays – 18:30 – 19:30
URL:https://moorlandvillagehall.co.uk/event/pilates/2026-06-17/
LOCATION:Moorland & District Village Hall\, Northmoor Green\, Bridgwater\, Somerset\, TA7 0AS\, United Kingdom
ATTACH;FMTTYPE=image/jpeg:https://moorlandvillagehall.co.uk/wp-content/uploads/2023/12/AdobeStock_277137656-scaled.jpeg
END:VEVENT
BEGIN:VEVENT
DTSTART;TZID=UTC:20260624T183000
DTEND;TZID=UTC:20260624T193000
DTSTAMP:20260421T104753
CREATED:20231202T140201Z
LAST-MODIFIED:20231202T141618Z
UID:10000658-1782325800-1782329400@moorlandvillagehall.co.uk
SUMMARY:Pilates
DESCRIPTION:Wednesdays – 18:30 – 19:30
URL:https://moorlandvillagehall.co.uk/event/pilates/2026-06-24/
LOCATION:Moorland & District Village Hall\, Northmoor Green\, Bridgwater\, Somerset\, TA7 0AS\, United Kingdom
ATTACH;FMTTYPE=image/jpeg:https://moorlandvillagehall.co.uk/wp-content/uploads/2023/12/AdobeStock_277137656-scaled.jpeg
END:VEVENT
BEGIN:VEVENT
DTSTART;TZID=UTC:20260701T183000
DTEND;TZID=UTC:20260701T193000
DTSTAMP:20260421T104753
CREATED:20231202T140201Z
LAST-MODIFIED:20231202T141618Z
UID:10000659-1782930600-1782934200@moorlandvillagehall.co.uk
SUMMARY:Pilates
DESCRIPTION:Wednesdays – 18:30 – 19:30
URL:https://moorlandvillagehall.co.uk/event/pilates/2026-07-01/
LOCATION:Moorland & District Village Hall\, Northmoor Green\, Bridgwater\, Somerset\, TA7 0AS\, United Kingdom
ATTACH;FMTTYPE=image/jpeg:https://moorlandvillagehall.co.uk/wp-content/uploads/2023/12/AdobeStock_277137656-scaled.jpeg
END:VEVENT
BEGIN:VEVENT
DTSTART;TZID=UTC:20260708T183000
DTEND;TZID=UTC:20260708T193000
DTSTAMP:20260421T104753
CREATED:20231202T140201Z
LAST-MODIFIED:20231202T141618Z
UID:10000660-1783535400-1783539000@moorlandvillagehall.co.uk
SUMMARY:Pilates
DESCRIPTION:Wednesdays – 18:30 – 19:30
URL:https://moorlandvillagehall.co.uk/event/pilates/2026-07-08/
LOCATION:Moorland & District Village Hall\, Northmoor Green\, Bridgwater\, Somerset\, TA7 0AS\, United Kingdom
ATTACH;FMTTYPE=image/jpeg:https://moorlandvillagehall.co.uk/wp-content/uploads/2023/12/AdobeStock_277137656-scaled.jpeg
END:VEVENT
BEGIN:VEVENT
DTSTART;TZID=UTC:20260715T183000
DTEND;TZID=UTC:20260715T193000
DTSTAMP:20260421T104753
CREATED:20231202T140201Z
LAST-MODIFIED:20231202T141618Z
UID:10000661-1784140200-1784143800@moorlandvillagehall.co.uk
SUMMARY:Pilates
DESCRIPTION:Wednesdays – 18:30 – 19:30
URL:https://moorlandvillagehall.co.uk/event/pilates/2026-07-15/
LOCATION:Moorland & District Village Hall\, Northmoor Green\, Bridgwater\, Somerset\, TA7 0AS\, United Kingdom
ATTACH;FMTTYPE=image/jpeg:https://moorlandvillagehall.co.uk/wp-content/uploads/2023/12/AdobeStock_277137656-scaled.jpeg
END:VEVENT
BEGIN:VEVENT
DTSTART;TZID=UTC:20260722T183000
DTEND;TZID=UTC:20260722T193000
DTSTAMP:20260421T104753
CREATED:20231202T140201Z
LAST-MODIFIED:20231202T141618Z
UID:10000662-1784745000-1784748600@moorlandvillagehall.co.uk
SUMMARY:Pilates
DESCRIPTION:Wednesdays – 18:30 – 19:30
URL:https://moorlandvillagehall.co.uk/event/pilates/2026-07-22/
LOCATION:Moorland & District Village Hall\, Northmoor Green\, Bridgwater\, Somerset\, TA7 0AS\, United Kingdom
ATTACH;FMTTYPE=image/jpeg:https://moorlandvillagehall.co.uk/wp-content/uploads/2023/12/AdobeStock_277137656-scaled.jpeg
END:VEVENT
BEGIN:VEVENT
DTSTART;TZID=UTC:20260729T183000
DTEND;TZID=UTC:20260729T193000
DTSTAMP:20260421T104753
CREATED:20231202T140201Z
LAST-MODIFIED:20231202T141618Z
UID:10000663-1785349800-1785353400@moorlandvillagehall.co.uk
SUMMARY:Pilates
DESCRIPTION:Wednesdays – 18:30 – 19:30
URL:https://moorlandvillagehall.co.uk/event/pilates/2026-07-29/
LOCATION:Moorland & District Village Hall\, Northmoor Green\, Bridgwater\, Somerset\, TA7 0AS\, United Kingdom
ATTACH;FMTTYPE=image/jpeg:https://moorlandvillagehall.co.uk/wp-content/uploads/2023/12/AdobeStock_277137656-scaled.jpeg
END:VEVENT
BEGIN:VEVENT
DTSTART;TZID=UTC:20260805T183000
DTEND;TZID=UTC:20260805T193000
DTSTAMP:20260421T104753
CREATED:20231202T140201Z
LAST-MODIFIED:20231202T141618Z
UID:10000664-1785954600-1785958200@moorlandvillagehall.co.uk
SUMMARY:Pilates
DESCRIPTION:Wednesdays – 18:30 – 19:30
URL:https://moorlandvillagehall.co.uk/event/pilates/2026-08-05/
LOCATION:Moorland & District Village Hall\, Northmoor Green\, Bridgwater\, Somerset\, TA7 0AS\, United Kingdom
ATTACH;FMTTYPE=image/jpeg:https://moorlandvillagehall.co.uk/wp-content/uploads/2023/12/AdobeStock_277137656-scaled.jpeg
END:VEVENT
BEGIN:VEVENT
DTSTART;TZID=UTC:20260812T183000
DTEND;TZID=UTC:20260812T193000
DTSTAMP:20260421T104753
CREATED:20231202T140201Z
LAST-MODIFIED:20231202T141618Z
UID:10000665-1786559400-1786563000@moorlandvillagehall.co.uk
SUMMARY:Pilates
DESCRIPTION:Wednesdays – 18:30 – 19:30
URL:https://moorlandvillagehall.co.uk/event/pilates/2026-08-12/
LOCATION:Moorland & District Village Hall\, Northmoor Green\, Bridgwater\, Somerset\, TA7 0AS\, United Kingdom
ATTACH;FMTTYPE=image/jpeg:https://moorlandvillagehall.co.uk/wp-content/uploads/2023/12/AdobeStock_277137656-scaled.jpeg
END:VEVENT
BEGIN:VEVENT
DTSTART;TZID=UTC:20260819T183000
DTEND;TZID=UTC:20260819T193000
DTSTAMP:20260421T104753
CREATED:20231202T140201Z
LAST-MODIFIED:20231202T141618Z
UID:10000666-1787164200-1787167800@moorlandvillagehall.co.uk
SUMMARY:Pilates
DESCRIPTION:Wednesdays – 18:30 – 19:30
URL:https://moorlandvillagehall.co.uk/event/pilates/2026-08-19/
LOCATION:Moorland & District Village Hall\, Northmoor Green\, Bridgwater\, Somerset\, TA7 0AS\, United Kingdom
ATTACH;FMTTYPE=image/jpeg:https://moorlandvillagehall.co.uk/wp-content/uploads/2023/12/AdobeStock_277137656-scaled.jpeg
END:VEVENT
BEGIN:VEVENT
DTSTART;TZID=UTC:20260826T183000
DTEND;TZID=UTC:20260826T193000
DTSTAMP:20260421T104753
CREATED:20231202T140201Z
LAST-MODIFIED:20231202T141618Z
UID:10000667-1787769000-1787772600@moorlandvillagehall.co.uk
SUMMARY:Pilates
DESCRIPTION:Wednesdays – 18:30 – 19:30
URL:https://moorlandvillagehall.co.uk/event/pilates/2026-08-26/
LOCATION:Moorland & District Village Hall\, Northmoor Green\, Bridgwater\, Somerset\, TA7 0AS\, United Kingdom
ATTACH;FMTTYPE=image/jpeg:https://moorlandvillagehall.co.uk/wp-content/uploads/2023/12/AdobeStock_277137656-scaled.jpeg
END:VEVENT
BEGIN:VEVENT
DTSTART;TZID=UTC:20260902T183000
DTEND;TZID=UTC:20260902T193000
DTSTAMP:20260421T104753
CREATED:20231202T140201Z
LAST-MODIFIED:20231202T141618Z
UID:10000668-1788373800-1788377400@moorlandvillagehall.co.uk
SUMMARY:Pilates
DESCRIPTION:Wednesdays – 18:30 – 19:30
URL:https://moorlandvillagehall.co.uk/event/pilates/2026-09-02/
LOCATION:Moorland & District Village Hall\, Northmoor Green\, Bridgwater\, Somerset\, TA7 0AS\, United Kingdom
ATTACH;FMTTYPE=image/jpeg:https://moorlandvillagehall.co.uk/wp-content/uploads/2023/12/AdobeStock_277137656-scaled.jpeg
END:VEVENT
BEGIN:VEVENT
DTSTART;TZID=UTC:20260909T183000
DTEND;TZID=UTC:20260909T193000
DTSTAMP:20260421T104753
CREATED:20231202T140201Z
LAST-MODIFIED:20231202T141618Z
UID:10000669-1788978600-1788982200@moorlandvillagehall.co.uk
SUMMARY:Pilates
DESCRIPTION:Wednesdays – 18:30 – 19:30
URL:https://moorlandvillagehall.co.uk/event/pilates/2026-09-09/
LOCATION:Moorland & District Village Hall\, Northmoor Green\, Bridgwater\, Somerset\, TA7 0AS\, United Kingdom
ATTACH;FMTTYPE=image/jpeg:https://moorlandvillagehall.co.uk/wp-content/uploads/2023/12/AdobeStock_277137656-scaled.jpeg
END:VEVENT
BEGIN:VEVENT
DTSTART;TZID=UTC:20260916T183000
DTEND;TZID=UTC:20260916T193000
DTSTAMP:20260421T104753
CREATED:20231202T140201Z
LAST-MODIFIED:20231202T141618Z
UID:10000670-1789583400-1789587000@moorlandvillagehall.co.uk
SUMMARY:Pilates
DESCRIPTION:Wednesdays – 18:30 – 19:30
URL:https://moorlandvillagehall.co.uk/event/pilates/2026-09-16/
LOCATION:Moorland & District Village Hall\, Northmoor Green\, Bridgwater\, Somerset\, TA7 0AS\, United Kingdom
ATTACH;FMTTYPE=image/jpeg:https://moorlandvillagehall.co.uk/wp-content/uploads/2023/12/AdobeStock_277137656-scaled.jpeg
END:VEVENT
BEGIN:VEVENT
DTSTART;TZID=UTC:20260923T183000
DTEND;TZID=UTC:20260923T193000
DTSTAMP:20260421T104753
CREATED:20231202T140201Z
LAST-MODIFIED:20231202T141618Z
UID:10000671-1790188200-1790191800@moorlandvillagehall.co.uk
SUMMARY:Pilates
DESCRIPTION:Wednesdays – 18:30 – 19:30
URL:https://moorlandvillagehall.co.uk/event/pilates/2026-09-23/
LOCATION:Moorland & District Village Hall\, Northmoor Green\, Bridgwater\, Somerset\, TA7 0AS\, United Kingdom
ATTACH;FMTTYPE=image/jpeg:https://moorlandvillagehall.co.uk/wp-content/uploads/2023/12/AdobeStock_277137656-scaled.jpeg
END:VEVENT
BEGIN:VEVENT
DTSTART;TZID=UTC:20260930T183000
DTEND;TZID=UTC:20260930T193000
DTSTAMP:20260421T104753
CREATED:20231202T140201Z
LAST-MODIFIED:20231202T141618Z
UID:10000672-1790793000-1790796600@moorlandvillagehall.co.uk
SUMMARY:Pilates
DESCRIPTION:Wednesdays – 18:30 – 19:30
URL:https://moorlandvillagehall.co.uk/event/pilates/2026-09-30/
LOCATION:Moorland & District Village Hall\, Northmoor Green\, Bridgwater\, Somerset\, TA7 0AS\, United Kingdom
ATTACH;FMTTYPE=image/jpeg:https://moorlandvillagehall.co.uk/wp-content/uploads/2023/12/AdobeStock_277137656-scaled.jpeg
END:VEVENT
BEGIN:VEVENT
DTSTART;TZID=UTC:20261007T183000
DTEND;TZID=UTC:20261007T193000
DTSTAMP:20260421T104753
CREATED:20231202T140201Z
LAST-MODIFIED:20231202T141618Z
UID:10000673-1791397800-1791401400@moorlandvillagehall.co.uk
SUMMARY:Pilates
DESCRIPTION:Wednesdays – 18:30 – 19:30
URL:https://moorlandvillagehall.co.uk/event/pilates/2026-10-07/
LOCATION:Moorland & District Village Hall\, Northmoor Green\, Bridgwater\, Somerset\, TA7 0AS\, United Kingdom
ATTACH;FMTTYPE=image/jpeg:https://moorlandvillagehall.co.uk/wp-content/uploads/2023/12/AdobeStock_277137656-scaled.jpeg
END:VEVENT
BEGIN:VEVENT
DTSTART;TZID=UTC:20261014T183000
DTEND;TZID=UTC:20261014T193000
DTSTAMP:20260421T104753
CREATED:20231202T140201Z
LAST-MODIFIED:20231202T141618Z
UID:10000674-1792002600-1792006200@moorlandvillagehall.co.uk
SUMMARY:Pilates
DESCRIPTION:Wednesdays – 18:30 – 19:30
URL:https://moorlandvillagehall.co.uk/event/pilates/2026-10-14/
LOCATION:Moorland & District Village Hall\, Northmoor Green\, Bridgwater\, Somerset\, TA7 0AS\, United Kingdom
ATTACH;FMTTYPE=image/jpeg:https://moorlandvillagehall.co.uk/wp-content/uploads/2023/12/AdobeStock_277137656-scaled.jpeg
END:VEVENT
BEGIN:VEVENT
DTSTART;TZID=UTC:20261021T183000
DTEND;TZID=UTC:20261021T193000
DTSTAMP:20260421T104753
CREATED:20231202T140201Z
LAST-MODIFIED:20231202T141618Z
UID:10000675-1792607400-1792611000@moorlandvillagehall.co.uk
SUMMARY:Pilates
DESCRIPTION:Wednesdays – 18:30 – 19:30
URL:https://moorlandvillagehall.co.uk/event/pilates/2026-10-21/
LOCATION:Moorland & District Village Hall\, Northmoor Green\, Bridgwater\, Somerset\, TA7 0AS\, United Kingdom
ATTACH;FMTTYPE=image/jpeg:https://moorlandvillagehall.co.uk/wp-content/uploads/2023/12/AdobeStock_277137656-scaled.jpeg
END:VEVENT
BEGIN:VEVENT
DTSTART;TZID=UTC:20261028T183000
DTEND;TZID=UTC:20261028T193000
DTSTAMP:20260421T104753
CREATED:20231202T140201Z
LAST-MODIFIED:20231202T141618Z
UID:10000676-1793212200-1793215800@moorlandvillagehall.co.uk
SUMMARY:Pilates
DESCRIPTION:Wednesdays – 18:30 – 19:30
URL:https://moorlandvillagehall.co.uk/event/pilates/2026-10-28/
LOCATION:Moorland & District Village Hall\, Northmoor Green\, Bridgwater\, Somerset\, TA7 0AS\, United Kingdom
ATTACH;FMTTYPE=image/jpeg:https://moorlandvillagehall.co.uk/wp-content/uploads/2023/12/AdobeStock_277137656-scaled.jpeg
END:VEVENT
BEGIN:VEVENT
DTSTART;TZID=UTC:20261104T183000
DTEND;TZID=UTC:20261104T193000
DTSTAMP:20260421T104753
CREATED:20231202T140201Z
LAST-MODIFIED:20231202T141618Z
UID:10000677-1793817000-1793820600@moorlandvillagehall.co.uk
SUMMARY:Pilates
DESCRIPTION:Wednesdays – 18:30 – 19:30
URL:https://moorlandvillagehall.co.uk/event/pilates/2026-11-04/
LOCATION:Moorland & District Village Hall\, Northmoor Green\, Bridgwater\, Somerset\, TA7 0AS\, United Kingdom
ATTACH;FMTTYPE=image/jpeg:https://moorlandvillagehall.co.uk/wp-content/uploads/2023/12/AdobeStock_277137656-scaled.jpeg
END:VEVENT
BEGIN:VEVENT
DTSTART;TZID=UTC:20261111T183000
DTEND;TZID=UTC:20261111T193000
DTSTAMP:20260421T104753
CREATED:20231202T140201Z
LAST-MODIFIED:20231202T141618Z
UID:10000678-1794421800-1794425400@moorlandvillagehall.co.uk
SUMMARY:Pilates
DESCRIPTION:Wednesdays – 18:30 – 19:30
URL:https://moorlandvillagehall.co.uk/event/pilates/2026-11-11/
LOCATION:Moorland & District Village Hall\, Northmoor Green\, Bridgwater\, Somerset\, TA7 0AS\, United Kingdom
ATTACH;FMTTYPE=image/jpeg:https://moorlandvillagehall.co.uk/wp-content/uploads/2023/12/AdobeStock_277137656-scaled.jpeg
END:VEVENT
END:VCALENDAR